BEGIN:VCALENDAR
VERSION:2.0
METHOD:PUBLISH
PRODID:-//tages.guru//DE
BEGIN:VEVENT
CREATED:2026-04-26T03:31:23.8178923+02:00
LAST-MODIFIED:2026-04-26T03:31:23.8178958+02:00
DTSTAMP:2026-04-26T03:31:23.8178966+02:00
SUMMARY:Internationaler Tag der Witwen
LOCATION:International
DTSTART;VALUE=DATE:20350623
DTEND;VALUE=DATE:20350624
URL:http://tages.guru/?name=Internationaler-Tag-der-Witwen&year=2035&page=%2FDays%2FCountDownByName
DESCRIPTION:http://tages.guru/?name=Internationaler-Tag-der-Witwen&year=2035&page=%2FDays%2FCountDownByName
TRANSP:TRANSPARENT
UID:Internationaler-Tag-der-Witwen@tages.guru
END:VEVENT
END:VCALENDAR