BEGIN:VCALENDAR
VERSION:2.0
METHOD:PUBLISH
PRODID:-//tages.guru//DE
BEGIN:VEVENT
CREATED:2026-04-24T12:07:26.7871147+02:00
LAST-MODIFIED:2026-04-24T12:07:26.7871176+02:00
DTSTAMP:2026-04-24T12:07:26.7871183+02:00
SUMMARY:Internationaler Tag der Pflege
LOCATION:
DTSTART;VALUE=DATE:20340512
DTEND;VALUE=DATE:20340513
URL:http://tages.guru/?name=Internationaler-Tag-der-Pflege&year=2034&page=%2FDays%2FCountDownByName
DESCRIPTION:http://tages.guru/?name=Internationaler-Tag-der-Pflege&year=2034&page=%2FDays%2FCountDownByName
TRANSP:TRANSPARENT
UID:Internationaler-Tag-der-Pflege@tages.guru
END:VEVENT
END:VCALENDAR