BEGIN:VCALENDAR
VERSION:2.0
METHOD:PUBLISH
PRODID:-//tages.guru//DE
BEGIN:VEVENT
CREATED:2026-04-25T17:50:22.9641457+02:00
LAST-MODIFIED:2026-04-25T17:50:22.9641502+02:00
DTSTAMP:2026-04-25T17:50:22.9641508+02:00
SUMMARY:Internationaler Tag der Migranten
LOCATION:International
DTSTART;VALUE=DATE:20321218
DTEND;VALUE=DATE:20321219
URL:http://tages.guru/?name=Internationaler-Tag-der-Migranten&year=2032&page=%2FDays%2FCountDownByName
DESCRIPTION:http://tages.guru/?name=Internationaler-Tag-der-Migranten&year=2032&page=%2FDays%2FCountDownByName
TRANSP:TRANSPARENT
UID:Internationaler-Tag-der-Migranten@tages.guru
END:VEVENT
END:VCALENDAR