BEGIN:VCALENDAR
VERSION:2.0
METHOD:PUBLISH
PRODID:-//tages.guru//DE
BEGIN:VEVENT
CREATED:2026-04-20T22:31:27.4752564+02:00
LAST-MODIFIED:2026-04-20T22:31:27.4752599+02:00
DTSTAMP:2026-04-20T22:31:27.4752607+02:00
SUMMARY:Internationaler Tag der Jogginghose
LOCATION:International
DTSTART;VALUE=DATE:20300121
DTEND;VALUE=DATE:20300122
URL:http://tages.guru/?name=Internationaler-Tag-der-Jogginghose&year=2030&page=%2FDays%2FCountDownByName
DESCRIPTION:http://tages.guru/?name=Internationaler-Tag-der-Jogginghose&year=2030&page=%2FDays%2FCountDownByName
TRANSP:TRANSPARENT
UID:Internationaler-Tag-der-Jogginghose@tages.guru
END:VEVENT
END:VCALENDAR