BEGIN:VCALENDAR
VERSION:2.0
METHOD:PUBLISH
PRODID:-//tages.guru//DE
BEGIN:VEVENT
CREATED:2026-04-22T20:45:40.0644694+02:00
LAST-MODIFIED:2026-04-22T20:45:40.0644725+02:00
DTSTAMP:2026-04-22T20:45:40.0644732+02:00
SUMMARY:Internationaler T-Shirt-Tag
LOCATION:International
DTSTART;VALUE=DATE:20330621
DTEND;VALUE=DATE:20330622
URL:http://tages.guru/?name=Internationaler-T-Shirt-Tag&year=2033&page=%2FDays%2FCountDownByName
DESCRIPTION:http://tages.guru/?name=Internationaler-T-Shirt-Tag&year=2033&page=%2FDays%2FCountDownByName
TRANSP:TRANSPARENT
UID:Internationaler-T-Shirt-Tag@tages.guru
END:VEVENT
END:VCALENDAR