BEGIN:VCALENDAR
VERSION:2.0
METHOD:PUBLISH
PRODID:-//tages.guru//DE
BEGIN:VEVENT
CREATED:2026-04-19T16:36:09.7441946+02:00
LAST-MODIFIED:2026-04-19T16:36:09.7441979+02:00
DTSTAMP:2026-04-19T16:36:09.7441986+02:00
SUMMARY:Internationaler Roma Tag
LOCATION:International
DTSTART;VALUE=DATE:20340408
DTEND;VALUE=DATE:20340409
URL:http://tages.guru/?name=Internationaler-Roma-Tag&year=2034&page=%2FDays%2FCountDownByName
DESCRIPTION:http://tages.guru/?name=Internationaler-Roma-Tag&year=2034&page=%2FDays%2FCountDownByName
TRANSP:TRANSPARENT
UID:Internationaler-Roma-Tag@tages.guru
END:VEVENT
END:VCALENDAR