BEGIN:VCALENDAR
VERSION:2.0
METHOD:PUBLISH
PRODID:-//tages.guru//DE
BEGIN:VEVENT
CREATED:2026-04-20T02:26:07.0630619+02:00
LAST-MODIFIED:2026-04-20T02:26:07.0630650+02:00
DTSTAMP:2026-04-20T02:26:07.0630658+02:00
SUMMARY:Internationaler Roma Tag
LOCATION:International
DTSTART;VALUE=DATE:20330408
DTEND;VALUE=DATE:20330409
URL:http://tages.guru/?name=Internationaler-Roma-Tag&year=2033&page=%2FDays%2FCountDownByName
DESCRIPTION:http://tages.guru/?name=Internationaler-Roma-Tag&year=2033&page=%2FDays%2FCountDownByName
TRANSP:TRANSPARENT
UID:Internationaler-Roma-Tag@tages.guru
END:VEVENT
END:VCALENDAR