BEGIN:VCALENDAR
VERSION:2.0
METHOD:PUBLISH
PRODID:-//tages.guru//DE
BEGIN:VEVENT
CREATED:2026-04-20T05:27:55.2427775+02:00
LAST-MODIFIED:2026-04-20T05:27:55.2427814+02:00
DTSTAMP:2026-04-20T05:27:55.2427822+02:00
SUMMARY:Internationaler Roma Tag
LOCATION:International
DTSTART;VALUE=DATE:20320408
DTEND;VALUE=DATE:20320409
URL:http://tages.guru/?name=Internationaler-Roma-Tag&year=2032&page=%2FDays%2FCountDownByName
DESCRIPTION:http://tages.guru/?name=Internationaler-Roma-Tag&year=2032&page=%2FDays%2FCountDownByName
TRANSP:TRANSPARENT
UID:Internationaler-Roma-Tag@tages.guru
END:VEVENT
END:VCALENDAR