BEGIN:VCALENDAR
VERSION:2.0
METHOD:PUBLISH
PRODID:-//tages.guru//DE
BEGIN:VEVENT
CREATED:2026-04-20T23:50:10.0564666+02:00
LAST-MODIFIED:2026-04-20T23:50:10.0564697+02:00
DTSTAMP:2026-04-20T23:50:10.0564706+02:00
SUMMARY:Internationaler Männertag
LOCATION:International
DTSTART;VALUE=DATE:20331119
DTEND;VALUE=DATE:20331120
URL:http://tages.guru/?name=Internationaler-Maennertag&year=2033&page=%2FDays%2FCountDownByName
DESCRIPTION:http://tages.guru/?name=Internationaler-Maennertag&year=2033&page=%2FDays%2FCountDownByName
TRANSP:TRANSPARENT
UID:Internationaler-Maennertag@tages.guru
END:VEVENT
END:VCALENDAR