BEGIN:VCALENDAR
VERSION:2.0
METHOD:PUBLISH
PRODID:-//tages.guru//DE
BEGIN:VEVENT
CREATED:2026-04-26T03:53:48.5325932+02:00
LAST-MODIFIED:2026-04-26T03:53:48.5325967+02:00
DTSTAMP:2026-04-26T03:53:48.5325974+02:00
SUMMARY:Internationaler Frauentag
LOCATION:International
DTSTART;VALUE=DATE:20330308
DTEND;VALUE=DATE:20330309
URL:http://tages.guru/?name=Internationaler-Frauentag&year=2033&page=%2FDays%2FCountDownByName
DESCRIPTION:http://tages.guru/?name=Internationaler-Frauentag&year=2033&page=%2FDays%2FCountDownByName
TRANSP:TRANSPARENT
UID:Internationaler-Frauentag@tages.guru
END:VEVENT
END:VCALENDAR