BEGIN:VCALENDAR
VERSION:2.0
METHOD:PUBLISH
PRODID:-//tages.guru//DE
BEGIN:VEVENT
CREATED:2026-04-19T15:25:57.6284527+02:00
LAST-MODIFIED:2026-04-19T15:25:57.6284587+02:00
DTSTAMP:2026-04-19T15:25:57.6284594+02:00
SUMMARY:Internationaler Darwin-Tag
LOCATION:International
DTSTART;VALUE=DATE:20320212
DTEND;VALUE=DATE:20320213
URL:http://tages.guru/?name=Internationaler-Darwin-Tag&year=2032&page=%2FDays%2FCountDownByName
DESCRIPTION:http://tages.guru/?name=Internationaler-Darwin-Tag&year=2032&page=%2FDays%2FCountDownByName
TRANSP:TRANSPARENT
UID:Internationaler-Darwin-Tag@tages.guru
END:VEVENT
END:VCALENDAR