BEGIN:VCALENDAR
VERSION:2.0
METHOD:PUBLISH
PRODID:-//tages.guru//DE
BEGIN:VEVENT
CREATED:2026-04-19T13:59:07.7376981+02:00
LAST-MODIFIED:2026-04-19T13:59:07.7377025+02:00
DTSTAMP:2026-04-19T13:59:07.7377032+02:00
SUMMARY:Internationaler Darwin-Tag
LOCATION:International
DTSTART;VALUE=DATE:20310212
DTEND;VALUE=DATE:20310213
URL:http://tages.guru/?name=Internationaler-Darwin-Tag&year=2031&page=%2FDays%2FCountDownByName
DESCRIPTION:http://tages.guru/?name=Internationaler-Darwin-Tag&year=2031&page=%2FDays%2FCountDownByName
TRANSP:TRANSPARENT
UID:Internationaler-Darwin-Tag@tages.guru
END:VEVENT
END:VCALENDAR