BEGIN:VCALENDAR
VERSION:2.0
METHOD:PUBLISH
PRODID:-//tages.guru//DE
BEGIN:VEVENT
CREATED:2026-04-25T20:03:51.9721837+02:00
LAST-MODIFIED:2026-04-25T20:03:51.9721882+02:00
DTSTAMP:2026-04-25T20:03:51.9721888+02:00
SUMMARY:Internationaler Asteroiden Tag
LOCATION:international
DTSTART;VALUE=DATE:20350630
DTEND;VALUE=DATE:20350701
URL:http://tages.guru/?name=Internationaler-Asteroiden-Tag&year=2035&page=%2FDays%2FCountDownByName
DESCRIPTION:http://tages.guru/?name=Internationaler-Asteroiden-Tag&year=2035&page=%2FDays%2FCountDownByName
TRANSP:TRANSPARENT
UID:Internationaler-Asteroiden-Tag@tages.guru
END:VEVENT
END:VCALENDAR