BEGIN:VCALENDAR
VERSION:2.0
METHOD:PUBLISH
PRODID:-//tages.guru//DE
BEGIN:VEVENT
CREATED:2026-04-26T04:55:57.0776619+02:00
LAST-MODIFIED:2026-04-26T04:55:57.0776652+02:00
DTSTAMP:2026-04-26T04:55:57.0776659+02:00
SUMMARY:International Coastal Cleanup Day
LOCATION:
DTSTART;VALUE=DATE:20310920
DTEND;VALUE=DATE:20310921
URL:http://tages.guru/?name=International-Coastal-Cleanup-Day&year=2031&page=%2FDays%2FCountDownByName
DESCRIPTION:http://tages.guru/?name=International-Coastal-Cleanup-Day&year=2031&page=%2FDays%2FCountDownByName
TRANSP:TRANSPARENT
UID:International-Coastal-Cleanup-Day@tages.guru
END:VEVENT
END:VCALENDAR