BEGIN:VCALENDAR
VERSION:2.0
METHOD:PUBLISH
PRODID:-//tages.guru//DE
BEGIN:VEVENT
CREATED:2026-04-26T00:54:50.7552386+02:00
LAST-MODIFIED:2026-04-26T00:54:50.7552417+02:00
DTSTAMP:2026-04-26T00:54:50.7552423+02:00
SUMMARY:Iden des März
LOCATION:
DTSTART;VALUE=DATE:20330315
DTEND;VALUE=DATE:20330316
URL:http://tages.guru/?name=Iden-des-Maerz&year=2033&page=%2FDays%2FCountDownByName
DESCRIPTION:http://tages.guru/?name=Iden-des-Maerz&year=2033&page=%2FDays%2FCountDownByName
TRANSP:TRANSPARENT
UID:Iden-des-Maerz@tages.guru
END:VEVENT
END:VCALENDAR