BEGIN:VCALENDAR
VERSION:2.0
METHOD:PUBLISH
PRODID:-//tages.guru//DE
BEGIN:VEVENT
CREATED:2026-04-20T18:08:01.7275499+02:00
LAST-MODIFIED:2026-04-20T18:08:01.7275529+02:00
DTSTAMP:2026-04-20T18:08:01.7275536+02:00
SUMMARY:Hubertustag
LOCATION:Römisch-katholische Kirche
DTSTART;VALUE=DATE:20261103
DTEND;VALUE=DATE:20261104
URL:http://tages.guru/?name=Hubertustag&year=2026&page=%2FDays%2FCountDownByName
DESCRIPTION:http://tages.guru/?name=Hubertustag&year=2026&page=%2FDays%2FCountDownByName
TRANSP:TRANSPARENT
UID:Hubertustag@tages.guru
END:VEVENT
END:VCALENDAR