BEGIN:VCALENDAR
VERSION:2.0
METHOD:PUBLISH
PRODID:-//tages.guru//DE
BEGIN:VEVENT
CREATED:2026-04-23T22:51:07.5415743+02:00
LAST-MODIFIED:2026-04-23T22:51:07.5415780+02:00
DTSTAMP:2026-04-23T22:51:07.5415787+02:00
SUMMARY:Heilige Drei Könige
LOCATION:christlich
DTSTART;VALUE=DATE:20300106
DTEND;VALUE=DATE:20300107
URL:http://tages.guru/?name=Heilige-Drei-Koenige&year=2030&page=%2FDays%2FCountDownByName
DESCRIPTION:http://tages.guru/?name=Heilige-Drei-Koenige&year=2030&page=%2FDays%2FCountDownByName
TRANSP:TRANSPARENT
UID:Heilige-Drei-Koenige@tages.guru
END:VEVENT
END:VCALENDAR