BEGIN:VCALENDAR
VERSION:2.0
METHOD:PUBLISH
PRODID:-//tages.guru//DE
BEGIN:VEVENT
CREATED:2026-04-24T06:47:35.5602301+02:00
LAST-MODIFIED:2026-04-24T06:47:35.5602340+02:00
DTSTAMP:2026-04-24T06:47:35.5602347+02:00
SUMMARY:Hast-du-gepupst?-Tag
LOCATION:
DTSTART;VALUE=DATE:20270205
DTEND;VALUE=DATE:20270206
URL:http://tages.guru/?name=Hast-du-gepupst-Tag&year=2027&page=%2FDays%2FCountDownByName
DESCRIPTION:http://tages.guru/?name=Hast-du-gepupst-Tag&year=2027&page=%2FDays%2FCountDownByName
TRANSP:TRANSPARENT
UID:Hast-du-gepupst-Tag@tages.guru
END:VEVENT
END:VCALENDAR