BEGIN:VCALENDAR
VERSION:2.0
METHOD:PUBLISH
PRODID:-//tages.guru//DE
BEGIN:VEVENT
CREATED:2026-04-19T14:18:47.8390832+02:00
LAST-MODIFIED:2026-04-19T14:18:47.8390872+02:00
DTSTAMP:2026-04-19T14:18:47.8390883+02:00
SUMMARY:Halloween
LOCATION:International
DTSTART;VALUE=DATE:20301031
DTEND;VALUE=DATE:20301101
URL:http://tages.guru/?name=Halloween&year=2030&page=%2FDays%2FCountDownByName
DESCRIPTION:http://tages.guru/?name=Halloween&year=2030&page=%2FDays%2FCountDownByName
TRANSP:TRANSPARENT
UID:Halloween@tages.guru
END:VEVENT
END:VCALENDAR