BEGIN:VCALENDAR
VERSION:2.0
METHOD:PUBLISH
PRODID:-//tages.guru//DE
BEGIN:VEVENT
CREATED:2026-04-19T16:13:22.7086611+02:00
LAST-MODIFIED:2026-04-19T16:13:22.7086653+02:00
DTSTAMP:2026-04-19T16:13:22.7086660+02:00
SUMMARY:Gregorstag
LOCATION:christlich
DTSTART;VALUE=DATE:20280312
DTEND;VALUE=DATE:20280313
URL:http://tages.guru/?name=Gregorstag&year=2028&page=%2FDays%2FCountDownByName
DESCRIPTION:http://tages.guru/?name=Gregorstag&year=2028&page=%2FDays%2FCountDownByName
TRANSP:TRANSPARENT
UID:Gregorstag@tages.guru
END:VEVENT
END:VCALENDAR