BEGIN:VCALENDAR
VERSION:2.0
METHOD:PUBLISH
PRODID:-//tages.guru//DE
BEGIN:VEVENT
CREATED:2026-04-19T15:06:31.5696800+02:00
LAST-MODIFIED:2026-04-19T15:06:31.5696855+02:00
DTSTAMP:2026-04-19T15:06:31.5696870+02:00
SUMMARY:Girls Day
LOCATION:International
DTSTART;VALUE=DATE:20290426
DTEND;VALUE=DATE:20290427
URL:http://tages.guru/?name=Girls-Day&year=2029&page=%2FDays%2FCountDownByName
DESCRIPTION:http://tages.guru/?name=Girls-Day&year=2029&page=%2FDays%2FCountDownByName
TRANSP:TRANSPARENT
UID:Girls-Day@tages.guru
END:VEVENT
END:VCALENDAR