BEGIN:VCALENDAR
VERSION:2.0
METHOD:PUBLISH
PRODID:-//tages.guru//DE
BEGIN:VEVENT
CREATED:2026-04-19T17:04:46.9700710+02:00
LAST-MODIFIED:2026-04-19T17:04:46.9700756+02:00
DTSTAMP:2026-04-19T17:04:46.9700764+02:00
SUMMARY:Gallustag
LOCATION:römisch-katholisch
DTSTART;VALUE=DATE:20321016
DTEND;VALUE=DATE:20321017
URL:http://tages.guru/?name=Gallustag&year=2032&page=%2FDays%2FCountDownByName
DESCRIPTION:http://tages.guru/?name=Gallustag&year=2032&page=%2FDays%2FCountDownByName
TRANSP:TRANSPARENT
UID:Gallustag@tages.guru
END:VEVENT
END:VCALENDAR