BEGIN:VCALENDAR
VERSION:2.0
METHOD:PUBLISH
PRODID:-//tages.guru//DE
BEGIN:VEVENT
CREATED:2026-04-22T12:39:48.6579120+02:00
LAST-MODIFIED:2026-04-22T12:39:48.6579143+02:00
DTSTAMP:2026-04-22T12:39:48.6579149+02:00
SUMMARY:Ford-Mustang-Tag
LOCATION:
DTSTART;VALUE=DATE:20330417
DTEND;VALUE=DATE:20330418
URL:http://tages.guru/?name=Ford-Mustang-Tag&year=2033&page=%2FDays%2FCountDownByName
DESCRIPTION:http://tages.guru/?name=Ford-Mustang-Tag&year=2033&page=%2FDays%2FCountDownByName
TRANSP:TRANSPARENT
UID:Ford-Mustang-Tag@tages.guru
END:VEVENT
END:VCALENDAR