BEGIN:VCALENDAR
VERSION:2.0
METHOD:PUBLISH
PRODID:-//tages.guru//DE
BEGIN:VEVENT
CREATED:2026-04-19T16:19:00.6530106+02:00
LAST-MODIFIED:2026-04-19T16:19:00.6530151+02:00
DTSTAMP:2026-04-19T16:19:00.6530158+02:00
SUMMARY:Faschingssonntag
LOCATION:christlich
DTSTART;VALUE=DATE:20320208
DTEND;VALUE=DATE:20320209
URL:http://tages.guru/?name=Faschingssonntag&year=2032&page=%2FDays%2FCountDownByName
DESCRIPTION:http://tages.guru/?name=Faschingssonntag&year=2032&page=%2FDays%2FCountDownByName
TRANSP:TRANSPARENT
UID:Faschingssonntag@tages.guru
END:VEVENT
END:VCALENDAR