BEGIN:VCALENDAR
VERSION:2.0
METHOD:PUBLISH
PRODID:-//tages.guru//DE
BEGIN:VEVENT
CREATED:2026-04-19T16:26:20.4760412+02:00
LAST-MODIFIED:2026-04-19T16:26:20.4760446+02:00
DTSTAMP:2026-04-19T16:26:20.4760455+02:00
SUMMARY:Faschingssonntag
LOCATION:christlich
DTSTART;VALUE=DATE:20310223
DTEND;VALUE=DATE:20310224
URL:http://tages.guru/?name=Faschingssonntag&year=2031&page=%2FDays%2FCountDownByName
DESCRIPTION:http://tages.guru/?name=Faschingssonntag&year=2031&page=%2FDays%2FCountDownByName
TRANSP:TRANSPARENT
UID:Faschingssonntag@tages.guru
END:VEVENT
END:VCALENDAR