BEGIN:VCALENDAR
VERSION:2.0
METHOD:PUBLISH
PRODID:-//tages.guru//DE
BEGIN:VEVENT
CREATED:2026-04-20T00:22:16.1701952+02:00
LAST-MODIFIED:2026-04-20T00:22:16.1701991+02:00
DTSTAMP:2026-04-20T00:22:16.1701998+02:00
SUMMARY:Faschingssonntag
LOCATION:christlich
DTSTART;VALUE=DATE:20290211
DTEND;VALUE=DATE:20290212
URL:http://tages.guru/?name=Faschingssonntag&year=2029&page=%2FDays%2FCountDownByName
DESCRIPTION:http://tages.guru/?name=Faschingssonntag&year=2029&page=%2FDays%2FCountDownByName
TRANSP:TRANSPARENT
UID:Faschingssonntag@tages.guru
END:VEVENT
END:VCALENDAR