BEGIN:VCALENDAR
VERSION:2.0
METHOD:PUBLISH
PRODID:-//tages.guru//DE
BEGIN:VEVENT
CREATED:2026-04-19T20:43:41.4099648+02:00
LAST-MODIFIED:2026-04-19T20:43:41.4099679+02:00
DTSTAMP:2026-04-19T20:43:41.4099686+02:00
SUMMARY:Europäischer Tag des Notrufes 112
LOCATION:Europa
DTSTART;VALUE=DATE:20300211
DTEND;VALUE=DATE:20300212
URL:http://tages.guru/?name=Europaeischer-Tag-des-Notrufes-112&year=2030&page=%2FDays%2FCountDownByName
DESCRIPTION:http://tages.guru/?name=Europaeischer-Tag-des-Notrufes-112&year=2030&page=%2FDays%2FCountDownByName
TRANSP:TRANSPARENT
UID:Europaeischer-Tag-des-Notrufes-112@tages.guru
END:VEVENT
END:VCALENDAR