BEGIN:VCALENDAR
VERSION:2.0
METHOD:PUBLISH
PRODID:-//tages.guru//DE
BEGIN:VEVENT
CREATED:2026-04-19T19:57:07.6530976+02:00
LAST-MODIFIED:2026-04-19T19:57:07.6531009+02:00
DTSTAMP:2026-04-19T19:57:07.6531019+02:00
SUMMARY:Europäischer Tag des Notrufes 112
LOCATION:Europa
DTSTART;VALUE=DATE:20290211
DTEND;VALUE=DATE:20290212
URL:http://tages.guru/?name=Europaeischer-Tag-des-Notrufes-112&year=2029&page=%2FDays%2FCountDownByName
DESCRIPTION:http://tages.guru/?name=Europaeischer-Tag-des-Notrufes-112&year=2029&page=%2FDays%2FCountDownByName
TRANSP:TRANSPARENT
UID:Europaeischer-Tag-des-Notrufes-112@tages.guru
END:VEVENT
END:VCALENDAR