BEGIN:VCALENDAR
VERSION:2.0
METHOD:PUBLISH
PRODID:-//tages.guru//DE
BEGIN:VEVENT
CREATED:2026-04-20T04:06:04.0698969+02:00
LAST-MODIFIED:2026-04-20T04:06:04.0699007+02:00
DTSTAMP:2026-04-20T04:06:04.0699015+02:00
SUMMARY:Eier-Benedict-Tag
LOCATION:
DTSTART;VALUE=DATE:20330416
DTEND;VALUE=DATE:20330417
URL:http://tages.guru/?name=Eier-Benedict-Tag&year=2033&page=%2FDays%2FCountDownByName
DESCRIPTION:http://tages.guru/?name=Eier-Benedict-Tag&year=2033&page=%2FDays%2FCountDownByName
TRANSP:TRANSPARENT
UID:Eier-Benedict-Tag@tages.guru
END:VEVENT
END:VCALENDAR