BEGIN:VCALENDAR
VERSION:2.0
METHOD:PUBLISH
PRODID:-//tages.guru//DE
BEGIN:VEVENT
CREATED:2026-04-19T20:23:57.2845564+02:00
LAST-MODIFIED:2026-04-19T20:23:57.2845596+02:00
DTSTAMP:2026-04-19T20:23:57.2845604+02:00
SUMMARY:Darstellung des Herrn
LOCATION:christlich
DTSTART;VALUE=DATE:20350202
DTEND;VALUE=DATE:20350203
URL:http://tages.guru/?name=Darstellung-des-Herrn&year=2035&page=%2FDays%2FCountDownByName
DESCRIPTION:http://tages.guru/?name=Darstellung-des-Herrn&year=2035&page=%2FDays%2FCountDownByName
TRANSP:TRANSPARENT
UID:Darstellung-des-Herrn@tages.guru
END:VEVENT
END:VCALENDAR