BEGIN:VCALENDAR
VERSION:2.0
METHOD:PUBLISH
PRODID:-//tages.guru//DE
BEGIN:VEVENT
CREATED:2026-04-25T21:32:48.9965500+02:00
LAST-MODIFIED:2026-04-25T21:32:48.9965530+02:00
DTSTAMP:2026-04-25T21:32:48.9965537+02:00
SUMMARY:Darstellung des Herrn
LOCATION:christlich
DTSTART;VALUE=DATE:20340202
DTEND;VALUE=DATE:20340203
URL:http://tages.guru/?name=Darstellung-des-Herrn&year=2034&page=%2FDays%2FCountDownByName
DESCRIPTION:http://tages.guru/?name=Darstellung-des-Herrn&year=2034&page=%2FDays%2FCountDownByName
TRANSP:TRANSPARENT
UID:Darstellung-des-Herrn@tages.guru
END:VEVENT
END:VCALENDAR