BEGIN:VCALENDAR
VERSION:2.0
METHOD:PUBLISH
PRODID:-//tages.guru//DE
BEGIN:VEVENT
CREATED:2026-04-21T01:39:15.6431592+02:00
LAST-MODIFIED:2026-04-21T01:39:15.6431626+02:00
DTSTAMP:2026-04-21T01:39:15.6431633+02:00
SUMMARY:Darstellung des Herrn
LOCATION:christlich
DTSTART;VALUE=DATE:20320202
DTEND;VALUE=DATE:20320203
URL:http://tages.guru/?name=Darstellung-des-Herrn&year=2032&page=%2FDays%2FCountDownByName
DESCRIPTION:http://tages.guru/?name=Darstellung-des-Herrn&year=2032&page=%2FDays%2FCountDownByName
TRANSP:TRANSPARENT
UID:Darstellung-des-Herrn@tages.guru
END:VEVENT
END:VCALENDAR