BEGIN:VCALENDAR
VERSION:2.0
METHOD:PUBLISH
PRODID:-//tages.guru//DE
BEGIN:VEVENT
CREATED:2026-04-19T14:48:44.8843771+02:00
LAST-MODIFIED:2026-04-19T14:48:44.8843806+02:00
DTSTAMP:2026-04-19T14:48:44.8843813+02:00
SUMMARY:Danke-einem-Briefträger-Tag
LOCATION:
DTSTART;VALUE=DATE:20320204
DTEND;VALUE=DATE:20320205
URL:http://tages.guru/?name=Danke-einem-Brieftraeger-Tag&year=2032&page=%2FDays%2FCountDownByName
DESCRIPTION:http://tages.guru/?name=Danke-einem-Brieftraeger-Tag&year=2032&page=%2FDays%2FCountDownByName
TRANSP:TRANSPARENT
UID:Danke-einem-Brieftraeger-Tag@tages.guru
END:VEVENT
END:VCALENDAR