BEGIN:VCALENDAR
VERSION:2.0
METHOD:PUBLISH
PRODID:-//tages.guru//DE
BEGIN:VEVENT
CREATED:2026-04-19T14:58:06.0660419+02:00
LAST-MODIFIED:2026-04-19T14:58:06.0660451+02:00
DTSTAMP:2026-04-19T14:58:06.0660458+02:00
SUMMARY:Danke-einem-Briefträger-Tag
LOCATION:
DTSTART;VALUE=DATE:20310204
DTEND;VALUE=DATE:20310205
URL:http://tages.guru/?name=Danke-einem-Brieftraeger-Tag&year=2031&page=%2FDays%2FCountDownByName
DESCRIPTION:http://tages.guru/?name=Danke-einem-Brieftraeger-Tag&year=2031&page=%2FDays%2FCountDownByName
TRANSP:TRANSPARENT
UID:Danke-einem-Brieftraeger-Tag@tages.guru
END:VEVENT
END:VCALENDAR