BEGIN:VCALENDAR
VERSION:2.0
METHOD:PUBLISH
PRODID:-//tages.guru//DE
BEGIN:VEVENT
CREATED:2026-04-20T09:40:24.7399396+02:00
LAST-MODIFIED:2026-04-20T09:40:24.7399443+02:00
DTSTAMP:2026-04-20T09:40:24.7399449+02:00
SUMMARY:Bla-Bla-Bla-Tag
LOCATION:
DTSTART;VALUE=DATE:20330417
DTEND;VALUE=DATE:20330418
URL:http://tages.guru/?name=Bla-Bla-Bla-Tag&year=2033&page=%2FDays%2FCountDownByName
DESCRIPTION:http://tages.guru/?name=Bla-Bla-Bla-Tag&year=2033&page=%2FDays%2FCountDownByName
TRANSP:TRANSPARENT
UID:Bla-Bla-Bla-Tag@tages.guru
END:VEVENT
END:VCALENDAR