BEGIN:VCALENDAR
VERSION:2.0
METHOD:PUBLISH
PRODID:-//tages.guru//DE
BEGIN:VEVENT
CREATED:2026-04-21T12:06:48.5635430+02:00
LAST-MODIFIED:2026-04-21T12:06:48.5635471+02:00
DTSTAMP:2026-04-21T12:06:48.5635478+02:00
SUMMARY:Augsburger Friedensfest
LOCATION:Deutschland
DTSTART;VALUE=DATE:20350808
DTEND;VALUE=DATE:20350809
URL:http://tages.guru/?name=Augsburger-Friedensfest&year=2035&page=%2FDays%2FCountDownByName
DESCRIPTION:http://tages.guru/?name=Augsburger-Friedensfest&year=2035&page=%2FDays%2FCountDownByName
TRANSP:TRANSPARENT
UID:Augsburger-Friedensfest@tages.guru
END:VEVENT
END:VCALENDAR