BEGIN:VCALENDAR
VERSION:2.0
METHOD:PUBLISH
PRODID:-//tages.guru//DE
BEGIN:VEVENT
CREATED:2026-04-23T19:54:44.3174503+02:00
LAST-MODIFIED:2026-04-23T19:54:44.3174541+02:00
DTSTAMP:2026-04-23T19:54:44.3174548+02:00
SUMMARY:Augsburger Friedensfest
LOCATION:Deutschland
DTSTART;VALUE=DATE:20320808
DTEND;VALUE=DATE:20320809
URL:http://tages.guru/?name=Augsburger-Friedensfest&year=2032&page=%2FDays%2FCountDownByName
DESCRIPTION:http://tages.guru/?name=Augsburger-Friedensfest&year=2032&page=%2FDays%2FCountDownByName
TRANSP:TRANSPARENT
UID:Augsburger-Friedensfest@tages.guru
END:VEVENT
END:VCALENDAR