BEGIN:VCALENDAR
VERSION:2.0
METHOD:PUBLISH
PRODID:-//tages.guru//DE
BEGIN:VEVENT
CREATED:2026-04-25T23:01:30.1314740+02:00
LAST-MODIFIED:2026-04-25T23:01:30.1314773+02:00
DTSTAMP:2026-04-25T23:01:30.1314781+02:00
SUMMARY:Augsburger Friedensfest
LOCATION:Deutschland
DTSTART;VALUE=DATE:20300808
DTEND;VALUE=DATE:20300809
URL:http://tages.guru/?name=Augsburger-Friedensfest&year=2030&page=%2FDays%2FCountDownByName
DESCRIPTION:http://tages.guru/?name=Augsburger-Friedensfest&year=2030&page=%2FDays%2FCountDownByName
TRANSP:TRANSPARENT
UID:Augsburger-Friedensfest@tages.guru
END:VEVENT
END:VCALENDAR