BEGIN:VCALENDAR
VERSION:2.0
METHOD:PUBLISH
PRODID:-//tages.guru//DE
BEGIN:VEVENT
CREATED:2026-04-25T18:18:31.6428981+02:00
LAST-MODIFIED:2026-04-25T18:18:31.6429011+02:00
DTSTAMP:2026-04-25T18:18:31.6429019+02:00
SUMMARY:Augsburger Friedensfest
LOCATION:Deutschland
DTSTART;VALUE=DATE:20290808
DTEND;VALUE=DATE:20290809
URL:http://tages.guru/?name=Augsburger-Friedensfest&year=2029&page=%2FDays%2FCountDownByName
DESCRIPTION:http://tages.guru/?name=Augsburger-Friedensfest&year=2029&page=%2FDays%2FCountDownByName
TRANSP:TRANSPARENT
UID:Augsburger-Friedensfest@tages.guru
END:VEVENT
END:VCALENDAR