BEGIN:VCALENDAR
VERSION:2.0
METHOD:PUBLISH
PRODID:-//tages.guru//DE
BEGIN:VEVENT
CREATED:2026-04-19T14:12:32.6074189+02:00
LAST-MODIFIED:2026-04-19T14:12:32.6074233+02:00
DTSTAMP:2026-04-19T14:12:32.6074240+02:00
SUMMARY:Andreastag
LOCATION:Römisch-katholische Kirche
DTSTART;VALUE=DATE:20261130
DTEND;VALUE=DATE:20261201
URL:http://tages.guru/?name=Andreastag&year=2026&page=%2FDays%2FCountDownByName
DESCRIPTION:http://tages.guru/?name=Andreastag&year=2026&page=%2FDays%2FCountDownByName
TRANSP:TRANSPARENT
UID:Andreastag@tages.guru
END:VEVENT
END:VCALENDAR