BEGIN:VCALENDAR
VERSION:2.0
METHOD:PUBLISH
PRODID:-//tages.guru//DE
BEGIN:VEVENT
CREATED:2026-04-19T18:59:39.3437419+02:00
LAST-MODIFIED:2026-04-19T18:59:39.3437455+02:00
DTSTAMP:2026-04-19T18:59:39.3437462+02:00
SUMMARY:Allerheiligen
LOCATION:römisch-katholische Kirche
DTSTART;VALUE=DATE:20281101
DTEND;VALUE=DATE:20281102
URL:http://tages.guru/?name=Allerheiligen&year=2028&page=%2FDays%2FCountDownByName
DESCRIPTION:http://tages.guru/?name=Allerheiligen&year=2028&page=%2FDays%2FCountDownByName
TRANSP:TRANSPARENT
UID:Allerheiligen@tages.guru
END:VEVENT
END:VCALENDAR