BEGIN:VCALENDAR
VERSION:2.0
METHOD:PUBLISH
PRODID:-//tages.guru//DE
BEGIN:VEVENT
CREATED:2026-04-24T00:39:39.3539965+02:00
LAST-MODIFIED:2026-04-24T00:39:39.3539998+02:00
DTSTAMP:2026-04-24T00:39:39.3540005+02:00
SUMMARY:Ändere-Dein-Passwort-Tag
LOCATION:
DTSTART;VALUE=DATE:20300201
DTEND;VALUE=DATE:20300202
URL:http://tages.guru/?name=AEndere-Dein-Passwort-Tag&year=2030&page=%2FDays%2FCountDownByName
DESCRIPTION:http://tages.guru/?name=AEndere-Dein-Passwort-Tag&year=2030&page=%2FDays%2FCountDownByName
TRANSP:TRANSPARENT
UID:AEndere-Dein-Passwort-Tag@tages.guru
END:VEVENT
END:VCALENDAR