BEGIN:VCALENDAR
VERSION:2.0
METHOD:PUBLISH
PRODID:-//tages.guru//DE
BEGIN:VEVENT
CREATED:2026-04-19T20:05:20.9782170+02:00
LAST-MODIFIED:2026-04-19T20:05:20.9782220+02:00
DTSTAMP:2026-04-19T20:05:20.9782230+02:00
SUMMARY:Ändere-Dein-Passwort-Tag
LOCATION:
DTSTART;VALUE=DATE:20280201
DTEND;VALUE=DATE:20280202
URL:http://tages.guru/?name=AEndere-Dein-Passwort-Tag&year=2028&page=%2FDays%2FCountDownByName
DESCRIPTION:http://tages.guru/?name=AEndere-Dein-Passwort-Tag&year=2028&page=%2FDays%2FCountDownByName
TRANSP:TRANSPARENT
UID:AEndere-Dein-Passwort-Tag@tages.guru
END:VEVENT
END:VCALENDAR